BEGIN:VCALENDAR
VERSION:2.0
PRODID:-//Nadja Hoff - ECPv6.15.20//NONSGML v1.0//EN
CALSCALE:GREGORIAN
METHOD:PUBLISH
X-ORIGINAL-URL:https://www.nadjahoff.de
X-WR-CALDESC:Veranstaltungen für Nadja Hoff
REFRESH-INTERVAL;VALUE=DURATION:PT1H
X-Robots-Tag:noindex
X-PUBLISHED-TTL:PT1H
BEGIN:VTIMEZONE
TZID:Europe/Berlin
BEGIN:DAYLIGHT
TZOFFSETFROM:+0100
TZOFFSETTO:+0200
TZNAME:CEST
DTSTART:20240331T010000
END:DAYLIGHT
BEGIN:STANDARD
TZOFFSETFROM:+0200
TZOFFSETTO:+0100
TZNAME:CET
DTSTART:20241027T010000
END:STANDARD
BEGIN:DAYLIGHT
TZOFFSETFROM:+0100
TZOFFSETTO:+0200
TZNAME:CEST
DTSTART:20250330T010000
END:DAYLIGHT
BEGIN:STANDARD
TZOFFSETFROM:+0200
TZOFFSETTO:+0100
TZNAME:CET
DTSTART:20251026T010000
END:STANDARD
BEGIN:DAYLIGHT
TZOFFSETFROM:+0100
TZOFFSETTO:+0200
TZNAME:CEST
DTSTART:20260329T010000
END:DAYLIGHT
BEGIN:STANDARD
TZOFFSETFROM:+0200
TZOFFSETTO:+0100
TZNAME:CET
DTSTART:20261025T010000
END:STANDARD
END:VTIMEZONE
BEGIN:VEVENT
DTSTART;TZID=Europe/Berlin:20251013T180000
DTEND;TZID=Europe/Berlin:20251013T220000
DTSTAMP:20260419T212238
CREATED:20241120T100914Z
LAST-MODIFIED:20241120T100956Z
UID:1623-1760378400-1760392800@www.nadjahoff.de
SUMMARY:Aufstellungsabend „Tierisch beste Freunde“
DESCRIPTION:Der Aufstellungsabend richtet sich an alle Tierhalter\, die ihre „tierische“ Beziehung positiv gestalten und ihre/n Seelenfreund/In besser verstehen wollen. Mit einem Perspektivwechsel der Mensch-Tier-Beziehung öffnen sich neue Wege für Tier und Mensch. \nEin Teil des Erlöses wird Tierheimen und Gnadenhöfen gespendet.
URL:https://www.nadjahoff.de/veranstaltung/aufstellungsabend-tierisch-beste-freunde-5/
LOCATION:Yburgstraße 79\, Yburgstraße 79\, Baden-Baden/Steinbach\, 76534\, Deutschland
ORGANIZER;CN="Nadja Hoff":MAILTO:info@nadjahoff.de
END:VEVENT
END:VCALENDAR